BEGIN:VCALENDAR
VERSION:2.0
PRODID:-//eventon.com NONSGML v1.0//EN
CALSCALE:GREGORIAN
METHOD:PUBLISH
BEGIN:VEVENT
UID:69e74d19efa3f
DTSTAMP:20260421T101033Z
DTSTART:20260313T183000Z
DTEND:20260313T210000Z
LOCATION:
SUMMARY:Der Teufel hat Bock auf Theussl und Bock
DESCRIPTION:Der Teufel hat Bock auf Theussl und Bock\nhttps://theussl.de/ev
 ents/der-teufel-hat-bock-auf-theussl-und-bock/
URL:https://theussl.de/events/der-teufel-hat-bock-auf-theussl-und-bock/
END:VEVENT
END:VCALENDAR